BEGIN:VCALENDAR
VERSION:2.0
PRODID:-//The Accidental Backyard Gardener - ECPv6.15.20//NONSGML v1.0//EN
CALSCALE:GREGORIAN
METHOD:PUBLISH
X-WR-CALNAME:The Accidental Backyard Gardener
X-ORIGINAL-URL:https://tabyg.com
X-WR-CALDESC:Events for The Accidental Backyard Gardener
REFRESH-INTERVAL;VALUE=DURATION:PT1H
X-Robots-Tag:noindex
X-PUBLISHED-TTL:PT1H
BEGIN:VTIMEZONE
TZID:America/Chicago
BEGIN:DAYLIGHT
TZOFFSETFROM:-0600
TZOFFSETTO:-0500
TZNAME:CDT
DTSTART:20230312T080000
END:DAYLIGHT
BEGIN:STANDARD
TZOFFSETFROM:-0500
TZOFFSETTO:-0600
TZNAME:CST
DTSTART:20231105T070000
END:STANDARD
BEGIN:DAYLIGHT
TZOFFSETFROM:-0600
TZOFFSETTO:-0500
TZNAME:CDT
DTSTART:20240310T080000
END:DAYLIGHT
BEGIN:STANDARD
TZOFFSETFROM:-0500
TZOFFSETTO:-0600
TZNAME:CST
DTSTART:20241103T070000
END:STANDARD
BEGIN:DAYLIGHT
TZOFFSETFROM:-0600
TZOFFSETTO:-0500
TZNAME:CDT
DTSTART:20250309T080000
END:DAYLIGHT
BEGIN:STANDARD
TZOFFSETFROM:-0500
TZOFFSETTO:-0600
TZNAME:CST
DTSTART:20251102T070000
END:STANDARD
END:VTIMEZONE
BEGIN:VEVENT
DTSTART;VALUE=DATE:20240817
DTEND;VALUE=DATE:20240818
DTSTAMP:20260423T114249
CREATED:20240818T125850Z
LAST-MODIFIED:20240818T125952Z
UID:483-1723852800-1723939199@tabyg.com
SUMMARY:Purchased 3 Ozark Beauty and 1 Silver Dollar blueberry plant
DESCRIPTION:August 17\, 2024. \nPurchased these plants from The Growing Place in Naperville\, IL \n  \nSilver Dollar Blueberry\n3 Ozark Beauty plants
URL:https://tabyg.com/event/purchased-3-ozark-beauty-and-1-silver-dollar-blueberry-plant/
CATEGORIES:Strawberry
END:VEVENT
BEGIN:VEVENT
DTSTART;VALUE=DATE:20240621
DTEND;VALUE=DATE:20240622
DTSTAMP:20260423T114249
CREATED:20240806T011421Z
LAST-MODIFIED:20240806T020246Z
UID:435-1718928000-1719014399@tabyg.com
SUMMARY:Purchased Tristan strawberries plants
DESCRIPTION:Purchased 2 Tristan strawberry plants. They are on the edges\, with an Ever Bearing in the middle. \nTristan and Ever bearing Strawberries
URL:https://tabyg.com/event/tristan/
CATEGORIES:Strawberry
END:VEVENT
END:VCALENDAR